BEGIN:VCALENDAR
VERSION:2.0
PRODID:-//ChamberMaster//Event Calendar 2.0//EN
METHOD:PUBLISH
X-PUBLISHED-TTL:P3D
REFRESH-INTERVAL:P3D
CALSCALE:GREGORIAN
BEGIN:VEVENT
DTSTART:20261017T140000Z
DTEND:20261017T150000Z
X-MICROSOFT-CDO-ALLDAYEVENT:FALSE
SUMMARY:Liberty Lit Society
DESCRIPTION:Celebrate America's 250th birthday with a unique book discussion group focused on the founding of the United States. Who: Ages 13 & up When: 10 a.m. Where: Library's lower level For more information please contact Bessie Shepherd at (765) 654-8746\, ext. 1140 or bessies@myfcpl.org. October's book selection is: Duel with the Devil by Paul Collins Collins portrays a 19th century murder trial in this remarkable tale of true crime. Before the infamous duel between Aaron Burr and Alexander Hamilton\, the duo worked together in the name of justice to try and solve the murder of Elma Sands\, a young Quaker woman. After more than 200 years\, Sands' death stands as this nation's oldest cold case. Collins captures that time in America's early years through a riveting narrative while presenting the first plausible break in the case since its inception.
X-ALT-DESC;FMTTYPE=text/html:Celebrate America&rsquo\;s 250th birthday with a unique book discussion group focused on the founding of the United States. Who: Ages 13 &amp\; up When: 10 a.m. Where: Library&rsquo\;s lower level For more information please contact Bessie Shepherd at (765) 654-8746\, ext. 1140 or bessies@myfcpl.org. October&#39\;s book selection is: Duel with the Devil by Paul Collins Collins portrays a 19th century murder trial in this remarkable tale of true crime. Before the infamous duel between Aaron Burr and Alexander Hamilton\, the duo worked together in the name of justice to try and solve the murder of Elma Sands\, a young Quaker woman. After more than 200 years\, Sands&#39\; death stands as this nation&#39\;s oldest cold case. Collins captures that time in America&#39\;s early years through a riveting narrative while presenting the first plausible break in the case since its inception.
LOCATION:Frankfort Community Public Library
UID:e.2238.111
SEQUENCE:3
DTSTAMP:20260421T081238Z
URL:https://members.discoverclintoncounty.com/events/details/liberty-lit-society-10-17-2026-111
END:VEVENT

END:VCALENDAR
