BEGIN:VCALENDAR
VERSION:2.0
PRODID:-//ChamberMaster//Event Calendar 2.0//EN
METHOD:PUBLISH
X-PUBLISHED-TTL:P3D
REFRESH-INTERVAL:P3D
CALSCALE:GREGORIAN
BEGIN:VEVENT
DTSTART:20260718T140000Z
DTEND:20260718T150000Z
X-MICROSOFT-CDO-ALLDAYEVENT:FALSE
SUMMARY:Liberty Lit Society
DESCRIPTION:Celebrate America's 250th birthday with a unique book discussion group focused on the founding of the United States. Who: Ages 13 & up When: 10 a.m. Where: Library's lower level For more information please contact Bessie Shepherd at (765) 654-8746\, ext. 1140 or bessies@myfcpl.org. July's book selection is: American Character by Colin Woodard Woodard examines key moments in American history\, from the earliest days through the great depression\, with a focus on the everlasting difficulty of preserving individual rights while maintaining a free society. The author uses important historical events to illustrate how this challenging dichotomy has been the basis for many disagreements throughout our nation's history\, with examples including the Constitutional Convention\, the Civil War\, and the Civil Rights Movement.
X-ALT-DESC;FMTTYPE=text/html:Celebrate America&rsquo\;s 250th birthday with a unique book discussion group focused on the founding of the United States. Who: Ages 13 &amp\; up When: 10 a.m. Where: Library&rsquo\;s lower level For more information please contact Bessie Shepherd at (765) 654-8746\, ext. 1140 or bessies@myfcpl.org. July&#39\;s book selection is: American Character by Colin Woodard Woodard examines key moments in American history\, from the earliest days through the great depression\, with a focus on the everlasting difficulty of preserving individual rights while maintaining a free society. The author uses important historical events to illustrate how this challenging dichotomy has been the basis for many disagreements throughout our nation&#39\;s history\, with examples including the Constitutional Convention\, the Civil War\, and the Civil Rights Movement.
LOCATION:Frankfort Community Public Library
UID:e.2238.108
SEQUENCE:3
DTSTAMP:20260425T165133Z
URL:https://members.discoverclintoncounty.com/events/details/liberty-lit-society-07-18-2026-108
END:VEVENT

END:VCALENDAR
